View In:
ArcGIS JavaScript
ArcGIS Online Map Viewer
ArcGIS Earth
ArcMap
View Footprint In:
ArcGIS Online Map Viewer
Service Description: The flood inundations illustrated are derived from hydraulic modeling for specific flow levels. The river flows correspond to the USGS gage data near Landsburg. Flood phases are based on King County’s Flood warning and alerts for the Cedar River. The 2%, 1%, and 0.2% annual chance flows correspond to what has historically been termed the 50-year, 100-year, and 500-year flows. The extents and depths shown are approximate and should not be used for permitting or other regulatory purposes. While some flows used here are the same as those used to create the Flood Insurance Rate Maps (FIRMs) published by FEMA, these illustrations are not a substitute for using the FIRMs themselves.
Name: WLRD/FL_Phase1_Channel
Description: The flood inundations illustrated are derived from hydraulic modeling for specific flow levels. The river flows correspond to the USGS gage data near Landsburg. Flood phases are based on King County’s Flood warning and alerts for the Cedar River. The 2%, 1%, and 0.2% annual chance flows correspond to what has historically been termed the 50-year, 100-year, and 500-year flows. The extents and depths shown are approximate and should not be used for permitting or other regulatory purposes. While some flows used here are the same as those used to create the Flood Insurance Rate Maps (FIRMs) published by FEMA, these illustrations are not a substitute for using the FIRMs themselves.
Single Fused Map Cache: false
Extent:
XMin: 1294839.5575793313
YMin: 135693.9369392244
XMax: 1362708.5575793313
YMax: 187884.9369392244
Spatial Reference: 2926
(2926)
Initial Extent:
XMin: 1294839.5575793313
YMin: 135693.9369392244
XMax: 1362708.5575793313
YMax: 187884.9369392244
Spatial Reference: 2926
(2926)
Full Extent:
XMin: 1294839.5575793313
YMin: 135693.9369392244
XMax: 1362708.5575793313
YMax: 187884.9369392244
Spatial Reference: 2926
(2926)
Pixel Size X: 3.0
Pixel Size Y: 3.0
Band Count: 1
Pixel Type: U32
RasterFunction Infos: {"rasterFunctionInfos": [{
"name": "None",
"description": "",
"help": ""
}]}
Mensuration Capabilities: Basic
Has Histograms: true
Has Colormap: false
Has Multi Dimensions : false
Rendering Rule:
Min Scale: 0
Max Scale: 0
Copyright Text:
Service Data Type: esriImageServiceDataTypeGeneric
Min Values: 1
Max Values: 8
Mean Values: 7.267758649417101
Standard Deviation Values: 1.9017224388918752
Object ID Field:
Fields:
None
Default Mosaic Method: Center
Allowed Mosaic Methods:
SortField:
SortValue: null
Mosaic Operator: First
Default Compression Quality: 75
Default Resampling Method: Bilinear
Max Record Count: null
Max Image Height: 4100
Max Image Width: 15000
Max Download Image Count: null
Max Mosaic Image Count: null
Allow Raster Function: true
Allow Copy: true
Allow Analysis: true
Allow Compute TiePoints: false
Supports Statistics: false
Supports Advanced Queries: false
Use StandardizedQueries: true
Raster Type Infos:
Name: Raster Dataset
Description: Supports all ArcGIS Raster Datasets
Help:
Has Raster Attribute Table: true
Edit Fields Info: null
Ownership Based AccessControl For Rasters: null
Child Resources:
Info
Raster Attribute Table
Histograms
Statistics
Key Properties
Legend
Raster Function Infos
Supported Operations:
Export Image
Identify
Measure
Compute Histograms
Compute Statistics Histograms
Get Samples
Compute Class Statistics
Query Boundary
Compute Pixel Location
Compute Angles
Validate
Project