View In:
ArcGIS JavaScript
ArcGIS Online Map Viewer
ArcGIS Earth
ArcMap
ArcGIS Pro
View Footprint In:
ArcGIS Online Map Viewer
Service Description: This map shows various Wastewater Division sewer facilities. They include treatment plants, wet weather treatment plants, sewer manholes, pump stations, and regulator stations. It also includes local sewer lines.
Map Name: Layers
Legend
All Layers and Tables
Layers:
Description: Various Wastewater Division sewer facilities, including treatment plants, wet weather treatment plants, sewer manholes, pump stations, regulator stations, and local sewer lines.
Copyright Text: King County
Spatial Reference:
102100
(3857)
Single Fused Map Cache: true
Tile Info:
- Height: 256
- Width: 256
- DPI: 96
-
Levels of Detail: 20
-
Level ID: 1
[ Start Tile, End Tile ]
- Resolution: 78271.5169639999
- Scale: 2.95828763795777E8
-
Level ID: 2
[ Start Tile, End Tile ]
- Resolution: 39135.7584820001
- Scale: 1.47914381897889E8
-
Level ID: 3
[ Start Tile, End Tile ]
- Resolution: 19567.8792409999
- Scale: 7.3957190948944E7
-
Level ID: 4
[ Start Tile, End Tile ]
- Resolution: 9783.93962049996
- Scale: 3.6978595474472E7
-
Level ID: 5
[ Start Tile, End Tile ]
- Resolution: 4891.96981024998
- Scale: 1.8489297737236E7
- Format: PNG
- Compression Quality: 0.0
- Origin: X: -2.0037508342787E7
Y: 2.0037508342787E7
- Spatial Reference: 102100
(3857)
Initial Extent:
XMin: -1.443876755088477E7
YMin: 5765114.628905259
XMax: -1.2630601434552534E7
YMax: 6757304.11328423
Spatial Reference: 102100
(3857)
Full Extent:
XMin: -1.368735818476624E7
YMin: 5969456.887871841
XMax: -1.3499934591410933E7
YMax: 6103819.3422975065
Spatial Reference: 102100
(3857)
Units: esriMeters
Supported Image Format Types: PNG32,PNG24,PNG,JPG,DIB,TIFF,EMF,PS,PDF,GIF,SVG,SVGZ,BMP
Document Info:
Title: King County Wastewater Treatment Facilities
Author: Wastewater Treatment Division, Department of Natural Resources and Parks
Comments: This map shows various Wastewater Division sewer facilities. They include treatment plants, wet weather treatment plants, sewer manholes, pump stations, and regulator stations. It also includes local sewer lines.
Subject: Map (and corresponding map service) displaying various King County Wastewater Treatment Division facilities.
Category:
Keywords: King County,wastewater,waste water,sewer,facilities,manholes,pump stations,sewer lines,treatment plants
AntialiasingMode: Best
TextAntialiasingMode: Force
Supports Dynamic Layers: false
Resampling: false
MaxRecordCount: 1000
MaxImageHeight: 4096
MaxImageWidth: 4096
Supported Query Formats: JSON, geoJSON
Supports Query Data Elements:
Min Scale: 2311162.217155
Max Scale: 1128.497176
Supports Datum Transformation: true
Child Resources:
Info
Supported Operations:
Export Map
Identify
QueryLegends
QueryDomains
Find
Return Updates