View In:
ArcGIS JavaScript
ArcGIS Online Map Viewer
ArcGIS Earth
ArcMap
ArcGIS Pro
View Footprint In:
ArcGIS Online Map Viewer
Service Description: Drainage basin boundaries in King, Snohomish and Pierce Counties.
Map Name: Layers
Legend
All Layers and Tables
Layers:
Description: Drainage basin boundaries in King, Snohomish and Pierce Counties.
Copyright Text:
Spatial Reference:
102100
(3857)
Single Fused Map Cache: true
Tile Info:
- Height: 256
- Width: 256
- DPI: 96
-
Levels of Detail: 20
-
Level ID: 1
[ Start Tile, End Tile ]
- Resolution: 78271.5169639999
- Scale: 2.95828763795777E8
-
Level ID: 2
[ Start Tile, End Tile ]
- Resolution: 39135.7584820001
- Scale: 1.47914381897889E8
-
Level ID: 3
[ Start Tile, End Tile ]
- Resolution: 19567.8792409999
- Scale: 7.3957190948944E7
-
Level ID: 4
[ Start Tile, End Tile ]
- Resolution: 9783.93962049996
- Scale: 3.6978595474472E7
-
Level ID: 5
[ Start Tile, End Tile ]
- Resolution: 4891.96981024998
- Scale: 1.8489297737236E7
- Format: PNG
- Compression Quality: 0.0
- Origin: X: -2.0037508342787E7
Y: 2.0037508342787E7
- Spatial Reference: 102100
(3857)
Initial Extent:
XMin: -1.376345695772262E7
YMin: 5887526.679797416
XMax: -1.3338216803787492E7
YMax: 6173864.531499553
Spatial Reference: 102100
(3857)
Full Extent:
XMin: -1.3679875914977811E7
YMin: 5873936.66382865
XMax: -1.3459106680205418E7
YMax: 6186961.326171555
Spatial Reference: 102100
(3857)
Units: esriMeters
Supported Image Format Types: PNG32,PNG24,PNG,JPG,DIB,TIFF,EMF,PS,PDF,GIF,SVG,SVGZ,BMP
Document Info:
Title: Drainage Basin Boundaries in King, Snohomish and Pierce Counties
Author: Water and Land Resource Division, DNRP
Comments: Drainage basin boundaries in King, Snohomish and Pierce Counties.
Subject: Drainage basin boundaries in King, Snohomish and Pierce Counties.
Category:
Keywords: basin,basin boundaries,drainage basins,King County,Snohomish County,Pierce County
AntialiasingMode: Best
TextAntialiasingMode: Force
Supports Dynamic Layers: false
MaxRecordCount: 1000
MaxImageHeight: 4096
MaxImageWidth: 4096
Supported Query Formats: JSON, geoJSON
Supports Query Data Elements:
Min Scale: 2311162.217155
Max Scale: 1128.497176
Supports Datum Transformation: true
Child Resources:
Info
Supported Operations:
Export Map
Identify
QueryLegends
QueryDomains
Find
Return Updates