View In:
ArcGIS JavaScript
ArcGIS Online Map Viewer
ArcGIS Earth
ArcMap
ArcGIS Pro
View Footprint In:
ArcGIS Online Map Viewer
Service Description: Year 2015 Impervious/Impacted Surface data, based primarily on spectral vegetative index applied to 2015 color infrared aerial orthoimagery. Updated with ancillary vector sources. Significant manual edits to remove commission error were applied. https://www5.kingcounty.gov/sdc/raster/landcover/Landcover2015ImperviousMetadata_faq.htm
Map Name: Layers
Legend
All Layers and Tables
Layers:
Description: This service depicts impervious surfaces in King County as derived from 2015 color infrared aerial orthoimagery and other sources.
Copyright Text: King County
Spatial Reference:
102100
(3857)
Single Fused Map Cache: true
Tile Info:
- Height: 256
- Width: 256
- DPI: 96
-
Levels of Detail: 21
-
Level ID: 0
[ Start Tile, End Tile ]
- Resolution: 156543.03392800014
- Scale: 5.91657527591555E8
-
Level ID: 1
[ Start Tile, End Tile ]
- Resolution: 78271.51696399994
- Scale: 2.95828763795777E8
-
Level ID: 2
[ Start Tile, End Tile ]
- Resolution: 39135.75848200009
- Scale: 1.47914381897889E8
-
Level ID: 3
[ Start Tile, End Tile ]
- Resolution: 19567.87924099992
- Scale: 7.3957190948944E7
-
Level ID: 4
[ Start Tile, End Tile ]
- Resolution: 9783.93962049996
- Scale: 3.6978595474472E7
-
Level ID: 5
[ Start Tile, End Tile ]
- Resolution: 4891.96981024998
- Scale: 1.8489297737236E7
- Format: PNG8
- Compression Quality: 0.0
- Origin: X: -2.0037508342787E7
Y: 2.0037508342787E7
- Spatial Reference: 102100
(3857)
Initial Extent:
XMin: -1.3673098133425433E7
YMin: 5990967.0009404225
XMax: -1.344283032874227E7
YMax: 6133600.6757937195
Spatial Reference: 102100
(3857)
Full Extent:
XMin: -1.3642542201179177E7
YMin: 5953539.924658917
XMax: -1.3473386260988526E7
YMax: 6101650.732626581
Spatial Reference: 102100
(3857)
Units: esriMeters
Supported Image Format Types: PNG32,PNG24,PNG,JPG,DIB,TIFF,EMF,PS,PDF,GIF,SVG,SVGZ,BMP
Document Info:
Title: King County Impervious and impacted surfaces
Author: King County
Comments: Year 2015 Impervious/Impacted Surface data, based primarily on spectral vegetative index applied to 2015 color infrared aerial orthoimagery. Updated with ancillary vector sources. Significant manual edits to remove commission error were applied. https://www5.kingcounty.gov/sdc/raster/landcover/Landcover2015ImperviousMetadata_faq.htm
Subject: This service depicts impervious surfaces in King County as derived from 2015 color infrared aerial orthoimagery and other sources.
Category:
Keywords: King County,impervious
AntialiasingMode: None
TextAntialiasingMode: Force
Supports Dynamic Layers: false
MaxRecordCount: 1000
MaxImageHeight: 4096
MaxImageWidth: 4096
Supported Query Formats: JSON, geoJSON
Supports Query Data Elements:
Min Scale: 5.91657527591555E8
Max Scale: 564.248588
Supports Datum Transformation: true
Child Resources:
Info
Supported Operations:
Export Map
Identify
QueryLegends
QueryDomains
Find
Return Updates