View In:
ArcGIS JavaScript
ArcGIS Online Map Viewer
ArcGIS Earth
ArcMap
ArcGIS Pro
View Footprint In:
ArcGIS Online Map Viewer
Service Description: A general-pupose basemap designed to support a wide variety of web-based mapping needs. Through its countywide display of highways and streets, waterbodies, incorporated cities, and parks, the map is suitable as a stand-alone, general-reference map and as a base for thematic data display using operational map overlays. The map was designed specifically for use in ArcGIS Server applications, with scale-dependent layers and label classes customized for the Google/Bing Web Mercator tiling scheme, but it is also useful as a "quick-and-dirty" basemap for other map projects (although as a cached map service the map content is unalterable).
Map Name: Layers
Legend
All Layers and Tables
Layers:
Description: A general-pupose basemap designed to support a wide variety of web-based mapping needs. Through its countywide display of highways and streets, waterbodies, incorporated cities, and parks, the map is suitable as a stand-alone, general-reference map and as a base for thematic data display using operational map overlays. The map was designed specifically for use in ArcGIS Server applications, with scale-dependent layers and label classes customized for the Google/Bing Web Mercator tiling scheme, but it is also useful as a "quick-and-dirty" basemap for other map projects (although as a cached map service the map content is unalterable).
Copyright Text: King County
Spatial Reference:
102100
(3857)
Single Fused Map Cache: true
Tile Info:
- Height: 256
- Width: 256
- DPI: 96
-
Levels of Detail: 24
-
Level ID: 0
[ Start Tile, End Tile ]
- Resolution: 156543.03392800014
- Scale: 5.91657527591555E8
-
Level ID: 1
[ Start Tile, End Tile ]
- Resolution: 78271.51696399994
- Scale: 2.95828763795777E8
-
Level ID: 2
[ Start Tile, End Tile ]
- Resolution: 39135.75848200009
- Scale: 1.47914381897889E8
-
Level ID: 3
[ Start Tile, End Tile ]
- Resolution: 19567.87924099992
- Scale: 7.3957190948944E7
-
Level ID: 4
[ Start Tile, End Tile ]
- Resolution: 9783.93962049996
- Scale: 3.6978595474472E7
-
Level ID: 5
[ Start Tile, End Tile ]
- Resolution: 4891.96981024998
- Scale: 1.8489297737236E7
- Format: JPEG
- Compression Quality: 80.0
- Origin: X: -2.0037508342787E7
Y: 2.0037508342787E7
- Spatial Reference: 102100
(3857)
Initial Extent:
XMin: -1.4070980841397515E7
YMin: 5700687.428370216
XMax: -1.3047336158602485E7
YMax: 6325636.571629786
Spatial Reference: 102100
(3857)
Full Extent:
XMin: -1.4122964000000002E7
YMin: 5678101.000000002
XMax: -1.2995352999999998E7
YMax: 6348223
Spatial Reference: 102100
(3857)
Units: esriMeters
Supported Image Format Types: PNG32,PNG24,PNG,JPG,DIB,TIFF,EMF,PS,PDF,GIF,SVG,SVGZ,BMP
Document Info:
Title: KingCo_GenericBase
Author: King County GIS Center
Comments: A general-pupose basemap designed to support a wide variety of web-based mapping needs. Through its countywide display of highways and streets, waterbodies, incorporated cities, and parks, the map is suitable as a stand-alone, general-reference map and as a base for thematic data display using operational map overlays. The map was designed specifically for use in ArcGIS Server applications, with scale-dependent layers and label classes customized for the Google/Bing Web Mercator tiling scheme, but it is also useful as a "quick-and-dirty" basemap for other map projects (although as a cached map service the map content is unalterable).
Subject: General-purpose, general-reference ArcGIS Server cached basemap of King County, Washington.
Category:
Keywords: King County,basemap,base map,general purpose,highways,cities,parks,water bodies
AntialiasingMode: None
TextAntialiasingMode: Force
Supports Dynamic Layers: false
Resampling: true
MaxRecordCount: 1000
MaxImageHeight: 4096
MaxImageWidth: 4096
Supported Query Formats: JSON, geoJSON
Supports Query Data Elements:
Min Scale: 5.91657527591555E8
Max Scale: 0
Supports Datum Transformation: true
Child Resources:
Info
Supported Operations:
Export Map
Identify
QueryLegends
QueryDomains
Find
Return Updates