View In:
ArcGIS JavaScript
ArcGIS Online Map Viewer
ArcGIS Earth
ArcMap
ArcGIS Pro
View Footprint In:
ArcGIS Online Map Viewer
Service Description: King County tile-cache base map featuring aerial imagery acquired in 2023. The cache was generated from a natural-color orthographic aerial imagery mosaic of King County and southwestern Snohomish County. The source dataset consists of tiled orthogonal imagery derived from aerial photographs captured by EagleView Technologies. Resolution is 3 inches per pixel (“Neighborhood” scale in EagleView terminology) over urbanized, western King County, and 9 inches per pixel (“Community” scale) over rural, eastern King County. Also covered at the Neighborhood level are southwestern Snohomish County, the U.S. Highway 2 corridor in northeastern King County, and the Alpental area near Snoqualmie Pass. The imagery in the mosaic is licensed to King County by EagleView Technologies.
Map Name: Layers
Legend
All Layers and Tables
Layers:
Description: King County tile-cache base map featuring aerial imagery acquired in 2023. The cache was generated from a natural-color orthographic aerial imagery mosaic of King County and southwestern Snohomish County. The source dataset consists of tiled orthogonal imagery derived from aerial photographs captured by EagleView Technologies. Resolution is 3 inches per pixel (“Neighborhood” scale in EagleView terminology) over urbanized, western King County, and 9 inches per pixel (“Community” scale) over rural, eastern King County. Also covered at the Neighborhood level are southwestern Snohomish County, the U.S. Highway 2 corridor in northeastern King County, and the Alpental area near Snoqualmie Pass. The imagery in the mosaic is licensed to King County by EagleView Technologies.
Copyright Text: EagleView Technologies, Inc., King County
Spatial Reference:
102100
(3857)
Single Fused Map Cache: true
Tile Info:
- Height: 256
- Width: 256
- DPI: 96
-
Levels of Detail: 24
-
Level ID: 0
[ Start Tile, End Tile ]
- Resolution: 156543.03392800014
- Scale: 5.91657527591555E8
-
Level ID: 1
[ Start Tile, End Tile ]
- Resolution: 78271.51696399994
- Scale: 2.95828763795777E8
-
Level ID: 2
[ Start Tile, End Tile ]
- Resolution: 39135.75848200009
- Scale: 1.47914381897889E8
-
Level ID: 3
[ Start Tile, End Tile ]
- Resolution: 19567.87924099992
- Scale: 7.3957190948944E7
-
Level ID: 4
[ Start Tile, End Tile ]
- Resolution: 9783.93962049996
- Scale: 3.6978595474472E7
-
Level ID: 5
[ Start Tile, End Tile ]
- Resolution: 4891.96981024998
- Scale: 1.8489297737236E7
- Format: MIXED
- Compression Quality: 80.0
- Origin: X: -2.0037508342787E7
Y: 2.0037508342787E7
- Spatial Reference: 102100
(3857)
Storage Info:
- Storage Format: esriMapCacheStorageModeCompactV2
- Packet Size: 128
Initial Extent:
XMin: -1.3697337509793537E7
YMin: 5921640.751091039
XMax: -1.3440779256839214E7
YMax: 6114597.137744112
Spatial Reference: 102100
(3857)
Full Extent:
XMin: -1.3644383338120418E7
YMin: 5950035.104651138
XMax: -1.3473620505457642E7
YMax: 6101230.129535437
Spatial Reference: 102100
(3857)
Units: esriMeters
Supported Image Format Types: PNG32,PNG24,PNG,JPG,DIB,TIFF,EMF,PS,PDF,GIF,SVG,SVGZ,BMP
Document Info:
Title: Basemaps: Aerial 2023
Author:
Comments: <DIV STYLE="text-align:Left;"><DIV><DIV><P><SPAN STYLE="font-size:12pt">King County tile-cache base map featuring aerial imagery acquired in 2023. The cache was generated from a natural-color orthographic aerial imagery mosaic of King County and southwestern Snohomish County. The source dataset consists of tiled orthogonal imagery derived from aerial photographs captured by EagleView Technologies. Resolution is 3 inches per pixel (“Neighborhood” scale in EagleView terminology) over urbanized, western King County, and 9 inches per pixel (“Community” scale) over rural, eastern King County. Also covered at the Neighborhood level are southwestern Snohomish County, the U.S. Highway 2 corridor in northeastern King County, and the Alpental area near Snoqualmie Pass. The imagery in the mosaic is licensed to King County by EagleView Technologies.</SPAN></P></DIV></DIV></DIV>
Subject: King County tile-cache basemap featuring aerial imagery acquired in 2023.
Category:
Keywords: basemap,basemaps,aerial,imagery,orthophotography,King County,raster
AntialiasingMode: None
TextAntialiasingMode: Force
Supports Dynamic Layers: false
Resampling: true
MaxRecordCount: 2000
MaxImageHeight: 4096
MaxImageWidth: 4096
Supported Query Formats: JSON, geoJSON, PBF
Supports Query Data Elements: true
Min Scale: 4622324.434309
Max Scale: 0
Supports Datum Transformation: true
Child Resources:
Info
Supported Operations:
Export Map
Identify
QueryLegends
QueryDomains
Find
Return Updates