View In:
ArcGIS JavaScript
ArcGIS Online Map Viewer
ArcGIS Earth
ArcMap
ArcGIS Pro
View Footprint In:
ArcGIS Online Map Viewer
Service Description: King County tile-cache base map featuring aerial imagery aquired in 2019. The geographic extent includes all of the King County land area, a large adjacent portion of southwest Snohomish County, and an irregular strip along the remainder of the outside edge of King County.
Capture resolution is three inches per pixel for western King County and southwestern Snohomish County, and nine inches per pixel for eastern King County.
Map Name: Layers
Legend
All Layers and Tables
Layers:
Description: King County tile-cache base map featuring aerial imagery aquired in 2019. The geographic extent includes all of the King County land area, a large adjacent portion of southwest Snohomish County, and an irregular strip along the remainder of the outside edge of King County.
Capture resolution is three inches per pixel for western King County and southwestern Snohomish County, and nine inches per pixel for eastern King County.
Copyright Text: EagleView Technologies, Inc.
Spatial Reference:
102100
(3857)
Single Fused Map Cache: true
Tile Info:
- Height: 256
- Width: 256
- DPI: 96
-
Levels of Detail: 24
-
Level ID: 0
[ Start Tile, End Tile ]
- Resolution: 156543.03392800014
- Scale: 5.91657527591555E8
-
Level ID: 1
[ Start Tile, End Tile ]
- Resolution: 78271.51696399994
- Scale: 2.95828763795777E8
-
Level ID: 2
[ Start Tile, End Tile ]
- Resolution: 39135.75848200009
- Scale: 1.47914381897889E8
-
Level ID: 3
[ Start Tile, End Tile ]
- Resolution: 19567.87924099992
- Scale: 7.3957190948944E7
-
Level ID: 4
[ Start Tile, End Tile ]
- Resolution: 9783.93962049996
- Scale: 3.6978595474472E7
-
Level ID: 5
[ Start Tile, End Tile ]
- Resolution: 4891.96981024998
- Scale: 1.8489297737236E7
- Format: MIXED
- Compression Quality: 80.0
- Origin: X: -2.0037508342787E7
Y: 2.0037508342787E7
- Spatial Reference: 102100
(3857)
Storage Info:
- Storage Format: esriMapCacheStorageModeCompactV2
- Packet Size: 128
Initial Extent:
XMin: -1.3826409535714285E7
YMin: 6032018.2467532465
XMax: -1.3291907464285715E7
YMax: 6214778.7922077915
Spatial Reference: 102100
(3857)
Full Extent:
XMin: -1.4122964000000002E7
YMin: 5678101.000000002
XMax: -1.2995352999999998E7
YMax: 6348223
Spatial Reference: 102100
(3857)
Units: esriMeters
Supported Image Format Types: PNG32,PNG24,PNG,JPG,DIB,TIFF,EMF,PS,PDF,GIF,SVG,SVGZ,BMP
Document Info:
Title: Basemaps: Aerial 2019
Author: King County
Comments: King County tile-cache base map featuring aerial imagery aquired in 2019. The geographic extent includes all of the King County land area, a large adjacent portion of southwest Snohomish County, and an irregular strip along the remainder of the outside edge of King County.
Capture resolution is three inches per pixel for western King County and southwestern Snohomish County, and nine inches per pixel for eastern King County.
Subject: King County tile-cache base map featuring aerial imagery aquired in 2019.
Category:
Keywords: basemaps,King County,aerial photos,imagery,raster data
AntialiasingMode: None
TextAntialiasingMode: Force
Supports Dynamic Layers: false
Resampling: true
MaxRecordCount: 1000
MaxImageHeight: 4096
MaxImageWidth: 4096
Supported Query Formats: JSON, geoJSON, PBF
Supports Query Data Elements: true
Min Scale: 4622324.434309
Max Scale: 0
Supports Datum Transformation: true
Child Resources:
Info
Supported Operations:
Export Map
Identify
QueryLegends
QueryDomains
Find
Return Updates