View In:
ArcGIS JavaScript
ArcGIS Online Map Viewer
ArcGIS Earth
ArcMap
ArcGIS Pro
View Footprint In:
ArcGIS Online Map Viewer
Service Description: This natural-color aerial imagery basemap is a mosaic of imagery at two resolutions which covers all of King County and portions of adjacent counties. In general, resolution is four inches per pixel for urbanized (western) King County and nine inches per pixel in rural (eastern) King County. Southwestern Snohomish County, the U.S. Highway 2 corridor in northeastern King County, and the Alpental area near Snoqualmie Pass are also represented by four-inch-resolution imagery. The imagery in the mosaic was captured by Pictometry International Corp. and licensed to King County for use by County agencies only.
Map Name: Layers
Legend
All Layers and Tables
Layers:
Description: King County aerial imagery basemap featuring imagery aquired in 2013.
Copyright Text: King County, Pictometry International Corp.
Spatial Reference:
102100
(3857)
Single Fused Map Cache: true
Tile Info:
- Height: 256
- Width: 256
- DPI: 96
-
Levels of Detail: 24
-
Level ID: 0
[ Start Tile, End Tile ]
- Resolution: 156543.03392800014
- Scale: 5.91657527591555E8
-
Level ID: 1
[ Start Tile, End Tile ]
- Resolution: 78271.51696399994
- Scale: 2.95828763795777E8
-
Level ID: 2
[ Start Tile, End Tile ]
- Resolution: 39135.75848200009
- Scale: 1.47914381897889E8
-
Level ID: 3
[ Start Tile, End Tile ]
- Resolution: 19567.87924099992
- Scale: 7.3957190948944E7
-
Level ID: 4
[ Start Tile, End Tile ]
- Resolution: 9783.93962049996
- Scale: 3.6978595474472E7
-
Level ID: 5
[ Start Tile, End Tile ]
- Resolution: 4891.96981024998
- Scale: 1.8489297737236E7
- Format: Mixed
- Compression Quality: 80.0
- Origin: X: -2.0037508342787E7
Y: 2.0037508342787E7
- Spatial Reference: 102100
(3857)
Storage Info:
- Storage Format: esriMapCacheStorageModeCompact
- Packet Size: 128
Initial Extent:
XMin: -1.4885291407496369E7
YMin: 4816121.67641921
XMax: -1.2233025592503635E7
YMax: 6661333.155604079
Spatial Reference: 102100
(3857)
Full Extent:
XMin: -1.4122964000000002E7
YMin: 5678101.000000002
XMax: -1.2995352999999998E7
YMax: 6348223
Spatial Reference: 102100
(3857)
Units: esriMeters
Supported Image Format Types: PNG32,PNG24,PNG,JPG,DIB,TIFF,EMF,PS,PDF,GIF,SVG,SVGZ,BMP
Document Info:
Title: King County 2013 Aerial Imagery Basemap
Author: King County GIS Center
Comments: This natural-color aerial imagery basemap is a mosaic of imagery at two resolutions which covers all of King County and portions of adjacent counties. In general, resolution is four inches per pixel for urbanized (western) King County and nine inches per pixel in rural (eastern) King County. Southwestern Snohomish County, the U.S. Highway 2 corridor in northeastern King County, and the Alpental area near Snoqualmie Pass are also represented by four-inch-resolution imagery. The imagery in the mosaic was captured by Pictometry International Corp. and licensed to King County for use by County agencies only.
Subject: King County aerial imagery basemap featuring imagery captured in 2013.
Category:
Keywords: Basemaps,King County,aerial photos,imagery,orthophoto
AntialiasingMode: None
TextAntialiasingMode: Force
Supports Dynamic Layers: false
Resampling: true
MaxRecordCount: 1000
MaxImageHeight: 4096
MaxImageWidth: 4096
Supported Query Formats: JSON, geoJSON, PBF
Supports Query Data Elements: true
Min Scale: 5.91657527591555E8
Max Scale: 0
Supports Datum Transformation: true
Child Resources:
Info
Supported Operations:
Export Map
Identify
QueryLegends
QueryDomains
Find
Return Updates