View In:
ArcGIS JavaScript
ArcGIS Online Map Viewer
ArcGIS Earth
ArcMap
ArcGIS Pro
View Footprint In:
ArcGIS Online Map Viewer
Service Description: King County and Southwestern Snohomish County. Western, urbanized, portion of King County acquired at 0.5-foot resolution. Eastern King County acquired at 1.0-foot resolution with built-up (inset) areas also at 0.5-foot. Orthoimagery was acquired from June through August by Pictometry.
Map Name: Layers
Legend
All Layers and Tables
Layers:
Description: King County and Southwestern Snohomish County. Western, urbanized, portion of King County acquired at 0.5-foot resolution. Eastern King County acquired at 1.0-foot resolution with built-up (inset) areas also at 0.5-foot. Orthoimagery was acquired from June through August by Pictometry.
Copyright Text: King County, Pictometry
Spatial Reference:
102100
(3857)
Single Fused Map Cache: true
Tile Info:
- Height: 256
- Width: 256
- DPI: 96
-
Levels of Detail: 24
-
Level ID: 0
[ Start Tile, End Tile ]
- Resolution: 156543.03392800014
- Scale: 5.91657527591555E8
-
Level ID: 1
[ Start Tile, End Tile ]
- Resolution: 78271.51696399994
- Scale: 2.95828763795777E8
-
Level ID: 2
[ Start Tile, End Tile ]
- Resolution: 39135.75848200009
- Scale: 1.47914381897889E8
-
Level ID: 3
[ Start Tile, End Tile ]
- Resolution: 19567.87924099992
- Scale: 7.3957190948944E7
-
Level ID: 4
[ Start Tile, End Tile ]
- Resolution: 9783.93962049996
- Scale: 3.6978595474472E7
-
Level ID: 5
[ Start Tile, End Tile ]
- Resolution: 4891.96981024998
- Scale: 1.8489297737236E7
- Format: JPEG
- Compression Quality: 80.0
- Origin: X: -2.0037508342787E7
Y: 2.0037508342787E7
- Spatial Reference: 102100
(3857)
Storage Info:
- Storage Format: esriMapCacheStorageModeCompact
- Packet Size: 128
Initial Extent:
XMin: -1.4179344550000003E7
YMin: 5154651.17969432
XMax: -1.2938972449999997E7
YMax: 6384190.335589522
Spatial Reference: 102100
(3857)
Full Extent:
XMin: -1.4122964000000002E7
YMin: 5678101.000000002
XMax: -1.2995352999999998E7
YMax: 6348223
Spatial Reference: 102100
(3857)
Units: esriMeters
Supported Image Format Types: PNG32,PNG24,PNG,JPG,DIB,TIFF,EMF,PS,PDF,GIF,SVG,SVGZ,BMP
Document Info:
Title: Basemaps: aerial 2007
Author: King County GIS Center
Comments: King County and Southwestern Snohomish County. Western, urbanized, portion of King County acquired at 0.5-foot resolution. Eastern King County acquired at 1.0-foot resolution with built-up (inset) areas also at 0.5-foot. Orthoimagery was acquired from June through August by Pictometry.
Subject: King County aerial imagery base map featuring aerial imagery aquired in 2007.
Category:
Keywords: Basemaps,King County,aerial photos,imagery
AntialiasingMode: None
TextAntialiasingMode: Force
Supports Dynamic Layers: false
Resampling: true
MaxRecordCount: 1000
MaxImageHeight: 4096
MaxImageWidth: 4096
Supported Query Formats: JSON, geoJSON, PBF
Supports Query Data Elements: true
Min Scale: 5.91657527591555E8
Max Scale: 0
Supports Datum Transformation: true
Child Resources:
Info
Supported Operations:
Export Map
Identify
QueryLegends
QueryDomains
Find
Return Updates