View In:
ArcGIS JavaScript
ArcGIS Online Map Viewer
ArcGIS Earth
ArcMap
ArcGIS Pro
View Footprint In:
ArcGIS Online Map Viewer
Service Description: 2005 natural color aerial imagery of King County, southwestern Snohomish County, and northwestern Pierce County. The imagery was acquired by Aerials Express at a resolution of 12 inches per pixel under leaf-on conditions.
Map Name: Layers
Legend
All Layers and Tables
Layers:
Description: 2005 natural color aerial imagery of King County, southwestern Snohomish County, and northwestern Pierce County. The imagery was acquired by Aerials Express at a resolution of 12 inches per pixel under leaf-on conditions.
Copyright Text: King County, Aerials Express
Spatial Reference:
102100
(3857)
Single Fused Map Cache: true
Tile Info:
- Height: 256
- Width: 256
- DPI: 96
-
Levels of Detail: 24
-
Level ID: 0
[ Start Tile, End Tile ]
- Resolution: 156543.03392800014
- Scale: 5.91657527591555E8
-
Level ID: 1
[ Start Tile, End Tile ]
- Resolution: 78271.51696399994
- Scale: 2.95828763795777E8
-
Level ID: 2
[ Start Tile, End Tile ]
- Resolution: 39135.75848200009
- Scale: 1.47914381897889E8
-
Level ID: 3
[ Start Tile, End Tile ]
- Resolution: 19567.87924099992
- Scale: 7.3957190948944E7
-
Level ID: 4
[ Start Tile, End Tile ]
- Resolution: 9783.93962049996
- Scale: 3.6978595474472E7
-
Level ID: 5
[ Start Tile, End Tile ]
- Resolution: 4891.96981024998
- Scale: 1.8489297737236E7
- Format: MIXED
- Compression Quality: 80.0
- Origin: X: -2.0037508342787E7
Y: 2.0037508342787E7
- Spatial Reference: 102100
(3857)
Storage Info:
- Storage Format: esriMapCacheStorageModeCompact
- Packet Size: 128
Initial Extent:
XMin: -1.4122964000000002E7
YMin: 5607630.9788448615
XMax: -1.2995352999999998E7
YMax: 6418693.021155139
Spatial Reference: 102100
(3857)
Full Extent:
XMin: -1.4122964000000002E7
YMin: 5678101.000000002
XMax: -1.2995352999999998E7
YMax: 6348223
Spatial Reference: 102100
(3857)
Units: esriMeters
Supported Image Format Types: PNG32,PNG24,PNG,JPG,DIB,TIFF,EMF,PS,PDF,GIF,SVG,SVGZ,BMP
Document Info:
Title: 2005 King County Aerial Imagery
Author: King County GIS Center
Comments: 2005 natural color aerial imagery of King County, southwestern Snohomish County, and northwestern Pierce County. The imagery was acquired by Aerials Express at a resolution of 12 inches per pixel under leaf-on conditions.
Subject: 2005 King County natural color aerial imagery.
Category:
Keywords: basemap,King County,aerial photos,imagery,orthophoto,2005
AntialiasingMode: None
TextAntialiasingMode: Force
Supports Dynamic Layers: false
Resampling: true
MaxRecordCount: 1000
MaxImageHeight: 4096
MaxImageWidth: 4096
Supported Query Formats: JSON, geoJSON, PBF
Supports Query Data Elements: true
Min Scale: 5.91657527591555E8
Max Scale: 0
Supports Datum Transformation: true
Child Resources:
Info
Supported Operations:
Export Map
Identify
QueryLegends
QueryDomains
Find
Return Updates