View In:
ArcGIS JavaScript
ArcGIS Online Map Viewer
ArcGIS Earth
ArcMap
ArcGIS Pro
View Footprint In:
ArcGIS Online Map Viewer
Service Description: 1936 aerial imagery for western King County from scanned 3 foot by 3 foot prints (boards 0.5 in pixels resampled to 1 foot).
Map Name: Layers
Legend
All Layers and Tables
Layers:
Description: Acquired under leaf-on conditions. 1936 aerial imagery for western King County was scanned from 3 foot by 3 foot prints. The source is the original hardboard-mounted aerial prints. The original 0.5 foot pixel resolution was resampled to 1 foot pixel. The purpose of the imagery is historical comparison and Archiving original documents.
Copyright Text: King County
Spatial Reference:
102100
(3857)
Single Fused Map Cache: true
Tile Info:
- Height: 256
- Width: 256
- DPI: 96
-
Levels of Detail: 21
-
Level ID: 0
[ Start Tile, End Tile ]
- Resolution: 156543.03392800014
- Scale: 5.91657527591555E8
-
Level ID: 1
[ Start Tile, End Tile ]
- Resolution: 78271.51696399994
- Scale: 2.95828763795777E8
-
Level ID: 2
[ Start Tile, End Tile ]
- Resolution: 39135.75848200009
- Scale: 1.47914381897889E8
-
Level ID: 3
[ Start Tile, End Tile ]
- Resolution: 19567.87924099992
- Scale: 7.3957190948944E7
-
Level ID: 4
[ Start Tile, End Tile ]
- Resolution: 9783.93962049996
- Scale: 3.6978595474472E7
-
Level ID: 5
[ Start Tile, End Tile ]
- Resolution: 4891.96981024998
- Scale: 1.8489297737236E7
- Format: JPEG
- Compression Quality: 75.0
- Origin: X: -2.0037508342787E7
Y: 2.0037508342787E7
- Spatial Reference: 102100
(3857)
Initial Extent:
XMin: -1.4368018326491999E7
YMin: 5398392.422052401
XMax: -1.3030149729548762E7
YMax: 6609876.671106263
Spatial Reference: 102100
Full Extent:
XMin: -1.417753905931587E7
YMin: 5634008.956331877
XMax: -1.2937166959315864E7
YMax: 6374260.136826785
Spatial Reference: 102100
Units: esriMeters
Supported Image Format Types: PNG32,PNG24,PNG,JPG,DIB,TIFF,EMF,PS,PDF,GIF,SVG,SVGZ,BMP
Document Info:
Title: Basemaps: aerial 1936
Author: King County
Comments: 1936 aerial imagery for western King County from scanned 3 foot by 3 foot prints (boards 0.5 in pixels resampled to 1 foot).
Subject: Panchromatic 1936 Digital Aerial Imagery for Western King County
Category:
Keywords: King county,Roads,1936,aerial,photo,imagery
AntialiasingMode: None
TextAntialiasingMode: Force
Supports Dynamic Layers: false
MaxRecordCount: 1000
MaxImageHeight: 4096
MaxImageWidth: 4096
Supported Query Formats: JSON, geoJSON
Supports Query Data Elements:
Min Scale: 5.91657527591555E8
Max Scale: 564.248588
Supports Datum Transformation: true
Child Resources:
Info
Supported Operations:
Export Map
Identify
QueryDomains
QueryLegends
Find
Return Updates