{
 "currentVersion": 10.91,
 "cimVersion": "2.9.0",
 "serviceDescription": "Natural-color aerial imagery mosaic of King County and southwestern Snohomish County. The imagery was captured by Pictometry International Corp. from 2/17/2017 through 10/30/2017.The dataset consists of tiled orthogonal imagery produced from nadir images captured by Pictometry International. Resolution is 3 inches per pixel (\u201cNeighborhood\u201d scale in Pictometry terminology) over urbanized, western King County, and 9 inches per pixel (\u201cCommunity\u201d scale) over rural, eastern King County. Also covered at the Neighborhood level are southwestern Snohomish County, the U.S. Highway 2 corridor in northeastern King County, and the Alpental area near Snoqualmie Pass. ",
 "mapName": "Layers",
 "description": "Natural-color aerial imagery mosaic of King County and southwestern Snohomish County. The imagery was captured by Pictometry International Corp. from 2/17/2017 through 10/30/2017.The dataset consists of tiled orthogonal imagery produced from nadir images captured by Pictometry International. Resolution is 3 inches per pixel (\u201cNeighborhood\u201d scale in Pictometry terminology) over urbanized, western King County, and 9 inches per pixel (\u201cCommunity\u201d scale) over rural, eastern King County. Also covered at the Neighborhood level are southwestern Snohomish County, the U.S. Highway 2 corridor in northeastern King County, and the Alpental area near Snoqualmie Pass. ",
 "copyrightText": "Pictometry, King County",
 "supportsDynamicLayers": false,
 "layers": [],
 "tables": [],
 "spatialReference": {
  "wkid": 102100,
  "latestWkid": 3857,
  "xyTolerance": 0.001,
  "zTolerance": 0.001,
  "mTolerance": 0.001,
  "falseX": -2.204125862706707E7,
  "falseY": -3.3265068604224794E7,
  "xyUnits": 1.3538524994349533E8,
  "falseZ": -100000,
  "zUnits": 10000,
  "falseM": -100000,
  "mUnits": 10000
 },
 "singleFusedMapCache": true,
 "tileInfo": {
  "rows": 256,
  "cols": 256,
  "dpi": 96,
  "format": "MIXED",
  "compressionQuality": 80,
  "origin": {
   "x": -2.0037508342787E7,
   "y": 2.0037508342787E7
  },
  "spatialReference": {
   "wkid": 102100,
   "latestWkid": 3857,
   "xyTolerance": 0.001,
   "zTolerance": 0.001,
   "mTolerance": 0.001,
   "falseX": -20037700,
   "falseY": -30241100,
   "xyUnits": 1.4892314192838538E8,
   "falseZ": -100000,
   "zUnits": 10000,
   "falseM": -100000,
   "mUnits": 10000
  },
  "lods": [
   {
    "level": 0,
    "resolution": 156543.03392800014,
    "scale": 5.91657527591555E8
   },
   {
    "level": 1,
    "resolution": 78271.51696399994,
    "scale": 2.95828763795777E8
   },
   {
    "level": 2,
    "resolution": 39135.75848200009,
    "scale": 1.47914381897889E8
   },
   {
    "level": 3,
    "resolution": 19567.87924099992,
    "scale": 7.3957190948944E7
   },
   {
    "level": 4,
    "resolution": 9783.93962049996,
    "scale": 3.6978595474472E7
   },
   {
    "level": 5,
    "resolution": 4891.96981024998,
    "scale": 1.8489297737236E7
   },
   {
    "level": 6,
    "resolution": 2445.98490512499,
    "scale": 9244648.868618
   },
   {
    "level": 7,
    "resolution": 1222.992452562495,
    "scale": 4622324.434309
   },
   {
    "level": 8,
    "resolution": 611.4962262813797,
    "scale": 2311162.217155
   },
   {
    "level": 9,
    "resolution": 305.74811314055756,
    "scale": 1155581.108577
   },
   {
    "level": 10,
    "resolution": 152.87405657041106,
    "scale": 577790.554289
   },
   {
    "level": 11,
    "resolution": 76.43702828507324,
    "scale": 288895.277144
   },
   {
    "level": 12,
    "resolution": 38.21851414253662,
    "scale": 144447.638572
   },
   {
    "level": 13,
    "resolution": 19.10925707126831,
    "scale": 72223.819286
   },
   {
    "level": 14,
    "resolution": 9.554628535634155,
    "scale": 36111.909643
   },
   {
    "level": 15,
    "resolution": 4.77731426794937,
    "scale": 18055.954822
   },
   {
    "level": 16,
    "resolution": 2.388657133974685,
    "scale": 9027.977411
   },
   {
    "level": 17,
    "resolution": 1.1943285668550503,
    "scale": 4513.988705
   },
   {
    "level": 18,
    "resolution": 0.5971642835598172,
    "scale": 2256.994353
   },
   {
    "level": 19,
    "resolution": 0.29858214164761665,
    "scale": 1128.497176
   },
   {
    "level": 20,
    "resolution": 0.14929107082380833,
    "scale": 564.248588
   },
   {
    "level": 21,
    "resolution": 0.07464553541190416,
    "scale": 282.124294
   },
   {
    "level": 22,
    "resolution": 0.03732276770595208,
    "scale": 141.062147
   },
   {
    "level": 23,
    "resolution": 0.01866138385297604,
    "scale": 70.5310735
   }
  ]
 },
 "storageInfo": {
  "storageFormat": "esriMapCacheStorageModeCompactV2",
  "packetSize": 128
 },
 "initialExtent": {
  "xmin": -1.3730980754117507E7,
  "ymin": 6026671.69261555,
  "xmax": -1.341935791634491E7,
  "ymax": 6170958.598270614,
  "spatialReference": {
   "wkid": 102100,
   "latestWkid": 3857,
   "xyTolerance": 0.001,
   "zTolerance": 0.001,
   "mTolerance": 0.001,
   "falseX": -2.204125862706707E7,
   "falseY": -3.3265068604224794E7,
   "xyUnits": 1.3538524994349533E8,
   "falseZ": -100000,
   "zUnits": 10000,
   "falseM": -100000,
   "mUnits": 10000
  }
 },
 "fullExtent": {
  "xmin": -1.711317456714661E7,
  "ymin": 3430201.940188012,
  "xmax": -1.000514243285339E7,
  "ymax": 8596122.05981199,
  "spatialReference": {
   "wkid": 102100,
   "latestWkid": 3857,
   "xyTolerance": 0.001,
   "zTolerance": 0.001,
   "mTolerance": 0.001,
   "falseX": -2.204125862706707E7,
   "falseY": -3.3265068604224794E7,
   "xyUnits": 1.3538524994349533E8,
   "falseZ": -100000,
   "zUnits": 10000,
   "falseM": -100000,
   "mUnits": 10000
  }
 },
 "datesInUnknownTimezone": false,
 "minScale": 2311162.217155,
 "maxScale": 0,
 "units": "esriMeters",
 "supportedImageFormatTypes": "PNG32,PNG24,PNG,JPG,DIB,TIFF,EMF,PS,PDF,GIF,SVG,SVGZ,BMP",
 "documentInfo": {
  "Title": "Basemaps: Aerial 2017",
  "Author": "King County GIS Center",
  "Comments": "Natural-color aerial imagery mosaic of King County and southwestern Snohomish County. The imagery was captured by Pictometry International Corp. from 2/17/2017 through 10/30/2017.The dataset consists of tiled orthogonal imagery produced from nadir images captured by Pictometry International. Resolution is 3 inches per pixel (\u201cNeighborhood\u201d scale in Pictometry terminology) over urbanized, western King County, and 9 inches per pixel (\u201cCommunity\u201d scale) over rural, eastern King County. Also covered at the Neighborhood level are southwestern Snohomish County, the U.S. Highway 2 corridor in northeastern King County, and the Alpental area near Snoqualmie Pass. ",
  "Subject": "King County tile-cache base map featuring aerial imagery aquired in 2017.",
  "Category": "",
  "AntialiasingMode": "None",
  "TextAntialiasingMode": "Force",
  "Version": "10.1",
  "Keywords": "basemaps,King County,aerial photos,imagery. raster data"
 },
 "capabilities": "Map,Query,Data",
 "supportedQueryFormats": "JSON, geoJSON, PBF",
 "exportTilesAllowed": false,
 "referenceScale": 0.0,
 "datumTransformations": [
  {
   "geoTransforms": [
    {
     "wkid": 108001,
     "latestWkid": 1241,
     "transformForward": true,
     "name": "NAD_1927_To_NAD_1983_NADCON"
    }
   ]
  },
  {
   "geoTransforms": [
    {
     "wkid": 108001,
     "latestWkid": 1241,
     "transformForward": false,
     "name": "NAD_1927_To_NAD_1983_NADCON"
    }
   ]
  },
  {
   "geoTransforms": [
    {
     "wkid": 1580,
     "latestWkid": 1580,
     "transformForward": true,
     "name": "NAD_1983_HARN_To_WGS_1984"
    }
   ]
  },
  {
   "geoTransforms": [
    {
     "wkid": 1580,
     "latestWkid": 1580,
     "transformForward": false,
     "name": "NAD_1983_HARN_To_WGS_1984"
    }
   ]
  }
 ],
 "supportsDatumTransformation": true,
 "archivingInfo": {
  "supportsHistoricMoment": false
 },
 "supportsClipping": true,
 "supportsSpatialFilter": true,
 "supportsTimeRelation": true,
 "supportsQueryDataElements": true,
 "maxRecordCount": 1000,
 "maxImageHeight": 4096,
 "maxImageWidth": 4096,
 "supportedExtensions": "",
 "resampling": true
}
